BEGIN:VCALENDAR
VERSION:2.0
PRODID:-//Lanco MG Club - ECPv6.15.20//NONSGML v1.0//EN
CALSCALE:GREGORIAN
METHOD:PUBLISH
X-WR-CALNAME:Lanco MG Club
X-ORIGINAL-URL:https://lancomgclub.com
X-WR-CALDESC:Events for Lanco MG Club
REFRESH-INTERVAL;VALUE=DURATION:PT1H
X-Robots-Tag:noindex
X-PUBLISHED-TTL:PT1H
BEGIN:VTIMEZONE
TZID:America/New_York
BEGIN:DAYLIGHT
TZOFFSETFROM:-0500
TZOFFSETTO:-0400
TZNAME:EDT
DTSTART:20240310T070000
END:DAYLIGHT
BEGIN:STANDARD
TZOFFSETFROM:-0400
TZOFFSETTO:-0500
TZNAME:EST
DTSTART:20241103T060000
END:STANDARD
BEGIN:DAYLIGHT
TZOFFSETFROM:-0500
TZOFFSETTO:-0400
TZNAME:EDT
DTSTART:20250309T070000
END:DAYLIGHT
BEGIN:STANDARD
TZOFFSETFROM:-0400
TZOFFSETTO:-0500
TZNAME:EST
DTSTART:20251102T060000
END:STANDARD
BEGIN:DAYLIGHT
TZOFFSETFROM:-0500
TZOFFSETTO:-0400
TZNAME:EDT
DTSTART:20260308T070000
END:DAYLIGHT
BEGIN:STANDARD
TZOFFSETFROM:-0400
TZOFFSETTO:-0500
TZNAME:EST
DTSTART:20261101T060000
END:STANDARD
END:VTIMEZONE
BEGIN:VEVENT
DTSTART;TZID=America/New_York:20250503T100000
DTEND;TZID=America/New_York:20250503T113000
DTSTAMP:20260421T053227
CREATED:20250104T172416Z
LAST-MODIFIED:20251125T034840Z
UID:10000358-1746266400-1746271800@lancomgclub.com
SUMMARY:Coffee\, Cars\, and Conversation
DESCRIPTION:Get together with others\, kick the tires\, have a coffee\, and solve the problems of the world. Everyone is welcome. Directly following this CCC\, we will hold a Covered Bridge Tour starting here. Be sure to check that event listing!
URL:https://lancomgclub.com/event/coffee-cars-and-conversation-5/
LOCATION:Wendys Columbia\, 3995 Columbia Ave\, Columbia\, 17512\, United States
CATEGORIES:CCC gatherings,Other Club Events
ATTACH;FMTTYPE=image/jpeg:https://lancomgclub.com/wp-content/uploads/2025/11/wendyscolumbia.jpg
END:VEVENT
BEGIN:VEVENT
DTSTART;TZID=America/New_York:20250503T113000
DTEND;TZID=America/New_York:20250503T153000
DTSTAMP:20260421T053227
CREATED:20250207T010132Z
LAST-MODIFIED:20250401T020050Z
UID:10000373-1746271800-1746286200@lancomgclub.com
SUMMARY:Covered Bridge Tour
DESCRIPTION:Take a road trip through southern Lancaster County to see five of the area’s historical covered bridges and the reconstructed “Martic Forge Trestle” now part of the Enola Low Grade Trail. Leaving from Lanco MG’s “Coffee\, Cars\, and Conversation” monthly gathering at Wendy’s on Columbia Ave. (PA 462) and Prospect Rd east of Columbia and heading south to begin our circular transit of the “Southern End”.  We’ll have an ice cream stop at the end on the eastern side of Lancaster. Approximately 60 miles\, 2-1/2 hours. No charge. All vehicles welcome. \nIt would be a good idea to top off the gas tank and reduce “your” fluids before heading out.
URL:https://lancomgclub.com/event/covered-bridge-tour/
LOCATION:Wendys Columbia\, 3995 Columbia Ave\, Columbia\, 17512\, United States
CATEGORIES:Lanco MG,Other Club Events
ATTACH;FMTTYPE=image/jpeg:https://lancomgclub.com/wp-content/uploads/2025/02/lime-valley-bridge-1.jpg
END:VEVENT
END:VCALENDAR