BEGIN:VCALENDAR
VERSION:2.0
PRODID:-//Lanco MG Club - ECPv6.15.20//NONSGML v1.0//EN
CALSCALE:GREGORIAN
METHOD:PUBLISH
X-WR-CALNAME:Lanco MG Club
X-ORIGINAL-URL:https://lancomgclub.com
X-WR-CALDESC:Events for Lanco MG Club
REFRESH-INTERVAL;VALUE=DURATION:PT1H
X-Robots-Tag:noindex
X-PUBLISHED-TTL:PT1H
BEGIN:VTIMEZONE
TZID:America/New_York
BEGIN:DAYLIGHT
TZOFFSETFROM:-0500
TZOFFSETTO:-0400
TZNAME:EDT
DTSTART:20240310T070000
END:DAYLIGHT
BEGIN:STANDARD
TZOFFSETFROM:-0400
TZOFFSETTO:-0500
TZNAME:EST
DTSTART:20241103T060000
END:STANDARD
BEGIN:DAYLIGHT
TZOFFSETFROM:-0500
TZOFFSETTO:-0400
TZNAME:EDT
DTSTART:20250309T070000
END:DAYLIGHT
BEGIN:STANDARD
TZOFFSETFROM:-0400
TZOFFSETTO:-0500
TZNAME:EST
DTSTART:20251102T060000
END:STANDARD
BEGIN:DAYLIGHT
TZOFFSETFROM:-0500
TZOFFSETTO:-0400
TZNAME:EDT
DTSTART:20260308T070000
END:DAYLIGHT
BEGIN:STANDARD
TZOFFSETFROM:-0400
TZOFFSETTO:-0500
TZNAME:EST
DTSTART:20261101T060000
END:STANDARD
END:VTIMEZONE
BEGIN:VEVENT
DTSTART;TZID=America/New_York:20251004T100000
DTEND;TZID=America/New_York:20251004T113000
DTSTAMP:20260420T074825
CREATED:20250104T172906Z
LAST-MODIFIED:20250104T172906Z
UID:10000362-1759572000-1759577400@lancomgclub.com
SUMMARY:Coffee\, Cars\, and Conversation
DESCRIPTION:Get together with others\, kick the tires\, have a coffee\, and solve the problems of the world. Everyone is welcome.
URL:https://lancomgclub.com/event/coffee-cars-and-conversation-9/
LOCATION:Jim Mack’s\, 5745 Lincoln Hwy\, York\, PA\, 17406\, United States
CATEGORIES:CCC gatherings,Other Club Events
ATTACH;FMTTYPE=image/webp:https://lancomgclub.com/wp-content/uploads/2025/01/JimMacks.webp
END:VEVENT
BEGIN:VEVENT
DTSTART;TZID=America/New_York:20251012T090000
DTEND;TZID=America/New_York:20251012T170000
DTSTAMP:20260420T074825
CREATED:20250224T021839Z
LAST-MODIFIED:20251003T114639Z
UID:10000386-1760259600-1760288400@lancomgclub.com
SUMMARY:Hunt Country Classic British Car Show
DESCRIPTION:MG Car Club – Washington D.C. Centre “Hunt Country Classic” British Car Show.  New location: Great Meadow in The Plains\, Virginia. If several members are interested\, Lanco MG will organize for a caravan trip – likely Oct. 11th down\, staying overnight\, and returning on the 12th after the show. Contact Gregg Swartley for Lanco MG information.
URL:https://lancomgclub.com/event/hunt-country-classic-british-car-show/
LOCATION:PA
CATEGORIES:Car shows
ATTACH;FMTTYPE=image/jpeg:https://lancomgclub.com/wp-content/uploads/2024/03/HCC-Logo.jpg
END:VEVENT
BEGIN:VEVENT
DTSTART;TZID=America/New_York:20251015T183000
DTEND;TZID=America/New_York:20251015T193000
DTSTAMP:20260420T074825
CREATED:20250216T195414Z
LAST-MODIFIED:20251013T193414Z
UID:10000382-1760553000-1760556600@lancomgclub.com
SUMMARY:Ice Cream Night
DESCRIPTION:LOCATION CHANGE! \nDairy Queen\, 1624 Lancaster Ave\, Columbia\, PA. \nFYI…..The DQ is ice cream only. \n 
URL:https://lancomgclub.com/event/ice-cream-night-9/
LOCATION:Dairy Queen – Columbia\, 1624 Lancaster Ave\, Columbia\, 17512\, United States
ATTACH;FMTTYPE=image/jpeg:https://lancomgclub.com/wp-content/uploads/2025/01/dairy-queen.jpg
END:VEVENT
BEGIN:VEVENT
DTSTART;TZID=America/New_York:20251019T103000
DTEND;TZID=America/New_York:20251019T170000
DTSTAMP:20260420T074825
CREATED:20250103T010225Z
LAST-MODIFIED:20250929T160706Z
UID:10000355-1760869800-1760893200@lancomgclub.com
SUMMARY:Annual "Crab Run" to Woody's\, North East\, MD.
DESCRIPTION:Annual “Crab Run” to Woody’s\, North East\, MD. Meet at Giant lot\, PA 272 and 35 Friendly Drive\, Buck\, PA\, at 10:45 a.m. Leaving there at 11:00 a.m. to caravan to Woody’s – arriving there at 12:00 noon. Inform Gloria (click for e-mail or 717-572-3018 voice or text) if you are planning to attend and have not already signed up. \nLanco Resource : Gloria Ciarrocca
URL:https://lancomgclub.com/event/annual-crab-run-to-woodys-north-east-md/
LOCATION:PA
ATTACH;FMTTYPE=image/jpeg:https://lancomgclub.com/wp-content/uploads/2024/04/Woodys-Oct-2012-000.jpg
END:VEVENT
END:VCALENDAR