BEGIN:VCALENDAR
VERSION:2.0
PRODID:-//Lanco MG Club - ECPv6.15.20//NONSGML v1.0//EN
CALSCALE:GREGORIAN
METHOD:PUBLISH
X-ORIGINAL-URL:https://lancomgclub.com
X-WR-CALDESC:Events for Lanco MG Club
REFRESH-INTERVAL;VALUE=DURATION:PT1H
X-Robots-Tag:noindex
X-PUBLISHED-TTL:PT1H
BEGIN:VTIMEZONE
TZID:America/New_York
BEGIN:DAYLIGHT
TZOFFSETFROM:-0500
TZOFFSETTO:-0400
TZNAME:EDT
DTSTART:20240310T070000
END:DAYLIGHT
BEGIN:STANDARD
TZOFFSETFROM:-0400
TZOFFSETTO:-0500
TZNAME:EST
DTSTART:20241103T060000
END:STANDARD
BEGIN:DAYLIGHT
TZOFFSETFROM:-0500
TZOFFSETTO:-0400
TZNAME:EDT
DTSTART:20250309T070000
END:DAYLIGHT
BEGIN:STANDARD
TZOFFSETFROM:-0400
TZOFFSETTO:-0500
TZNAME:EST
DTSTART:20251102T060000
END:STANDARD
BEGIN:DAYLIGHT
TZOFFSETFROM:-0500
TZOFFSETTO:-0400
TZNAME:EDT
DTSTART:20260308T070000
END:DAYLIGHT
BEGIN:STANDARD
TZOFFSETFROM:-0400
TZOFFSETTO:-0500
TZNAME:EST
DTSTART:20261101T060000
END:STANDARD
END:VTIMEZONE
BEGIN:VEVENT
DTSTART;TZID=America/New_York:20251101T100000
DTEND;TZID=America/New_York:20251101T113000
DTSTAMP:20260420T062327
CREATED:20250104T173121Z
LAST-MODIFIED:20260111T145910Z
UID:10000363-1761991200-1761996600@lancomgclub.com
SUMMARY:Coffee\, Cars\, and Conversation
DESCRIPTION:Get together with others\, kick the tires\, have a coffee or a hot chocolate\, and solve the problems of the world. Everyone is welcome.
URL:https://lancomgclub.com/event/coffee-cars-and-conversation-10/2025-11-01/
LOCATION:Burger King Columbia\, 531 N. 3rd Street\, Columbia\, PA\, 17512\, United States
CATEGORIES:CCC gatherings
ATTACH;FMTTYPE=image/jpeg:https://lancomgclub.com/wp-content/uploads/2024/04/CCC-Feb2024.jpg
END:VEVENT
BEGIN:VEVENT
DTSTART;TZID=America/New_York:20251109T150000
DTEND;TZID=America/New_York:20251109T170000
DTSTAMP:20260420T062327
CREATED:20250103T000850Z
LAST-MODIFIED:20250103T004023Z
UID:10000353-1762700400-1762707600@lancomgclub.com
SUMMARY:Club Meeting - Monthly
DESCRIPTION:Join us at the Centerville Diner for our meeting and find our what’s happening with the club. Enjoy some great food too!
URL:https://lancomgclub.com/event/club-meeting-monthly-2/2025-11-09/
LOCATION:Centerville Diner\, 100 S. Centerville Rd.\, Lancaster\, PA\, United States
ATTACH;FMTTYPE=image/jpeg:https://lancomgclub.com/wp-content/uploads/2024/04/Club-meeting-2024-1.jpg
END:VEVENT
BEGIN:VEVENT
DTSTART;TZID=America/New_York:20251119T183000
DTEND;TZID=America/New_York:20251119T200000
DTSTAMP:20260420T062327
CREATED:20250104T191700Z
LAST-MODIFIED:20250104T191700Z
UID:10000365-1763577000-1763582400@lancomgclub.com
SUMMARY:Ice Cream Night
DESCRIPTION:Join us for ice cream to get together and sample some of the great treats in our area.
URL:https://lancomgclub.com/event/ice-cream-night-4/
LOCATION:Friendly’s\, 578 Centerville Rd\, Lancaster\, PA\, United States
CATEGORIES:Ice Cream/Hot Chocolate
ATTACH;FMTTYPE=image/jpeg:https://lancomgclub.com/wp-content/uploads/2025/01/Friendlys-scaled.jpg
END:VEVENT
END:VCALENDAR